BEGIN:VCALENDAR
VERSION:2.0
PRODID:-//Tour Guide Confidential - ECPv5.14.1//NONSGML v1.0//EN
CALSCALE:GREGORIAN
METHOD:PUBLISH
X-WR-CALNAME:Tour Guide Confidential
X-ORIGINAL-URL:https://tourguideconfidential.com
X-WR-CALDESC:Events for Tour Guide Confidential
REFRESH-INTERVAL;VALUE=DURATION:PT1H
X-Robots-Tag:noindex
X-PUBLISHED-TTL:PT1H
BEGIN:VTIMEZONE
TZID:Europe/Helsinki
BEGIN:DAYLIGHT
TZOFFSETFROM:+0200
TZOFFSETTO:+0300
TZNAME:EEST
DTSTART:20200329T010000
END:DAYLIGHT
BEGIN:STANDARD
TZOFFSETFROM:+0300
TZOFFSETTO:+0200
TZNAME:EET
DTSTART:20201025T010000
END:STANDARD
END:VTIMEZONE
BEGIN:VEVENT
DTSTART;TZID=Europe/Helsinki:20200816T173000
DTEND;TZID=Europe/Helsinki:20200816T190000
DTSTAMP:20260423T114527
CREATED:20200906T105046Z
LAST-MODIFIED:20200906T110331Z
UID:1377-1597599000-1597604400@tourguideconfidential.com
SUMMARY:Online Lecture - Hinduism and Judaism: Shared Roots\, Different Branches?
DESCRIPTION:At first glance\, it would seem undeniable that no two religions could be more opposed. Judaism\, the mother of all monotheistic religions\, is defined by its insistence on One (and only One) supreme deity\, while Hinduism is typified by a dizzying array of deities. And yet\, if one just scratches the surface\, there are many unexpected commonalities\, shared practices\, and historical convergences between these two ancient faith traditions. In this lecture\, we will examine the evidence and reflect upon these surprising similarities and what they might mean.
URL:https://tourguideconfidential.com/event/lecture-hinduism-and-judaism/
CATEGORIES:Lecture
ORGANIZER;CN="Dr.%20Eyal%20Dujovny":MAILTO:eialdujovny@gmail.com
END:VEVENT
END:VCALENDAR