BEGIN:VCALENDAR
VERSION:2.0
PRODID:-//Tour Guide Confidential - ECPv5.14.1//NONSGML v1.0//EN
CALSCALE:GREGORIAN
METHOD:PUBLISH
X-WR-CALNAME:Tour Guide Confidential
X-ORIGINAL-URL:https://tourguideconfidential.com
X-WR-CALDESC:Events for Tour Guide Confidential
REFRESH-INTERVAL;VALUE=DURATION:PT1H
X-Robots-Tag:noindex
X-PUBLISHED-TTL:PT1H
BEGIN:VTIMEZONE
TZID:Europe/Helsinki
BEGIN:DAYLIGHT
TZOFFSETFROM:+0200
TZOFFSETTO:+0300
TZNAME:EEST
DTSTART:20200329T010000
END:DAYLIGHT
BEGIN:STANDARD
TZOFFSETFROM:+0300
TZOFFSETTO:+0200
TZNAME:EET
DTSTART:20201025T010000
END:STANDARD
END:VTIMEZONE
BEGIN:VEVENT
DTSTART;VALUE=DATE:20201025
DTEND;VALUE=DATE:20201028
DTSTAMP:20260423T191722
CREATED:20200910T092738Z
LAST-MODIFIED:20200910T092738Z
UID:1462-1603591200-1603763999@tourguideconfidential.com
SUMMARY:זני ערבה - קמפוס
DESCRIPTION:
URL:https://tourguideconfidential.com/event/%d7%96%d7%a0%d7%99-%d7%a2%d7%a8%d7%91%d7%94-%d7%a7%d7%9e%d7%a4%d7%95%d7%a1/
CATEGORIES:Tour
END:VEVENT
BEGIN:VEVENT
DTSTART;VALUE=DATE:20201022
DTEND;VALUE=DATE:20201024
DTSTAMP:20260423T191722
CREATED:20200908T081233Z
LAST-MODIFIED:20200908T081233Z
UID:1453-1603332000-1603418399@tourguideconfidential.com
SUMMARY:סיור ברים בירושלים - טניה קרבצוב
DESCRIPTION:
URL:https://tourguideconfidential.com/event/%d7%a1%d7%99%d7%95%d7%a8-%d7%91%d7%a8%d7%99%d7%9d-%d7%91%d7%99%d7%a8%d7%95%d7%a9%d7%9c%d7%99%d7%9d-%d7%98%d7%a0%d7%99%d7%94-%d7%a7%d7%a8%d7%91%d7%a6%d7%95%d7%91/
END:VEVENT
BEGIN:VEVENT
DTSTART;VALUE=DATE:20201021
DTEND;VALUE=DATE:20201023
DTSTAMP:20260423T191722
CREATED:20200908T081009Z
LAST-MODIFIED:20200908T081009Z
UID:1451-1603245600-1603331999@tourguideconfidential.com
SUMMARY:הר הבית וירושלים באיסלאם - שמעון גת
DESCRIPTION:
URL:https://tourguideconfidential.com/event/%d7%94%d7%a8-%d7%94%d7%91%d7%99%d7%aa-%d7%95%d7%99%d7%a8%d7%95%d7%a9%d7%9c%d7%99%d7%9d-%d7%91%d7%90%d7%99%d7%a1%d7%9c%d7%90%d7%9d-%d7%a9%d7%9e%d7%a2%d7%95%d7%9f-%d7%92%d7%aa/
END:VEVENT
BEGIN:VEVENT
DTSTART;VALUE=DATE:20201018
DTEND;VALUE=DATE:20201020
DTSTAMP:20260423T191722
CREATED:20200910T092608Z
LAST-MODIFIED:20200910T092608Z
UID:1460-1602986400-1603072799@tourguideconfidential.com
SUMMARY:קירות חיפה מדברים - גילי שולץ
DESCRIPTION:
URL:https://tourguideconfidential.com/event/%d7%a7%d7%99%d7%a8%d7%95%d7%aa-%d7%97%d7%99%d7%a4%d7%94-%d7%9e%d7%93%d7%91%d7%a8%d7%99%d7%9d-%d7%92%d7%99%d7%9c%d7%99-%d7%a9%d7%95%d7%9c%d7%a5/
CATEGORIES:Tour
END:VEVENT
BEGIN:VEVENT
DTSTART;TZID=Europe/Helsinki:20201016T100000
DTEND;TZID=Europe/Helsinki:20201016T190000
DTSTAMP:20260423T191722
CREATED:20200907T133515Z
LAST-MODIFIED:20200910T091929Z
UID:1416-1602842400-1602874800@tourguideconfidential.com
SUMMARY:סיור בתי כנסת בכרם התימנים - הילה קרן שטיינמץ
DESCRIPTION:
URL:https://tourguideconfidential.com/event/%d7%a1%d7%99%d7%95%d7%a8-%d7%91%d7%aa%d7%99-%d7%9b%d7%a0%d7%a1%d7%aa-%d7%91%d7%9b%d7%a8%d7%9d-%d7%94%d7%aa%d7%99%d7%9e%d7%a0%d7%99%d7%9d/
CATEGORIES:Tour
END:VEVENT
BEGIN:VEVENT
DTSTART;VALUE=DATE:20201013
DTEND;VALUE=DATE:20201015
DTSTAMP:20260423T191722
CREATED:20200910T092224Z
LAST-MODIFIED:20200910T092251Z
UID:1457-1602554400-1602640799@tourguideconfidential.com
SUMMARY:בקעה בוטיקה המשך - דניאל משולם
DESCRIPTION:
URL:https://tourguideconfidential.com/event/%d7%91%d7%a7%d7%a2%d7%94-%d7%91%d7%95%d7%98%d7%99%d7%a7%d7%94-%d7%94%d7%9e%d7%a9%d7%9a-%d7%93%d7%a0%d7%99%d7%90%d7%9c-%d7%9e%d7%a9%d7%95%d7%9c%d7%9d/
CATEGORIES:Tour
END:VEVENT
BEGIN:VEVENT
DTSTART;VALUE=DATE:20201011
DTEND;VALUE=DATE:20201013
DTSTAMP:20260423T191722
CREATED:20200908T080633Z
LAST-MODIFIED:20200910T091748Z
UID:1443-1602381600-1602467999@tourguideconfidential.com
SUMMARY:זכוכית וקיסריה - גיא מלל
DESCRIPTION:
URL:https://tourguideconfidential.com/event/%d7%96%d7%9b%d7%95%d7%9b%d7%99%d7%aa-%d7%95%d7%a7%d7%99%d7%a1%d7%a8%d7%99%d7%94-%d7%92%d7%99%d7%90-%d7%9e%d7%9c%d7%9c/
END:VEVENT
BEGIN:VEVENT
DTSTART;VALUE=DATE:20201007
DTEND;VALUE=DATE:20201009
DTSTAMP:20260423T191722
CREATED:20200908T080707Z
LAST-MODIFIED:20200910T091654Z
UID:1445-1602036000-1602122399@tourguideconfidential.com
SUMMARY:קריית שמונה אינה עונה - גילי שולץ
DESCRIPTION:
URL:https://tourguideconfidential.com/event/%d7%a7%d7%a8%d7%99%d7%99%d7%aa-%d7%a9%d7%9e%d7%95%d7%a0%d7%94-%d7%90%d7%99%d7%a0%d7%94-%d7%a2%d7%95%d7%a0%d7%94-%d7%92%d7%99%d7%9c%d7%99-%d7%a9%d7%95%d7%9c%d7%a5/
END:VEVENT
BEGIN:VEVENT
DTSTART;VALUE=DATE:20201005
DTEND;VALUE=DATE:20201007
DTSTAMP:20260423T191722
CREATED:20200908T080743Z
LAST-MODIFIED:20200910T091617Z
UID:1447-1601863200-1601949599@tourguideconfidential.com
SUMMARY:המון ברמון - דניאל משולם
DESCRIPTION:
URL:https://tourguideconfidential.com/event/%d7%94%d7%9e%d7%95%d7%9f-%d7%91%d7%a8%d7%9e%d7%95%d7%9f-%d7%93%d7%a0%d7%99%d7%90%d7%9c-%d7%9e%d7%a9%d7%95%d7%9c%d7%9d/
END:VEVENT
BEGIN:VEVENT
DTSTART;TZID=Europe/Helsinki:20201002T000000
DTEND;TZID=Europe/Helsinki:20201002T013000
DTSTAMP:20260423T191722
CREATED:20200918T110018Z
LAST-MODIFIED:20200918T111055Z
UID:1483-1601596800-1601602200@tourguideconfidential.com
SUMMARY:Hinduism and Judaism - Shared Roots Different Branches
DESCRIPTION:
URL:https://tourguideconfidential.com/event/hinduism-and-judaism-shared-roots-different-branches/
CATEGORIES:Lecture
ORGANIZER;CN="Dr.%20Eyal%20Dujovny":MAILTO:eialdujovny@gmail.com
END:VEVENT
BEGIN:VEVENT
DTSTART;VALUE=DATE:20200930
DTEND;VALUE=DATE:20201002
DTSTAMP:20260423T191722
CREATED:20200908T080845Z
LAST-MODIFIED:20200910T091155Z
UID:1449-1601431200-1601517599@tourguideconfidential.com
SUMMARY:שוק התקווה - משה לב
DESCRIPTION:טעימות ומפגשים בשכונת התקווה
URL:https://tourguideconfidential.com/event/%d7%a9%d7%95%d7%a7-%d7%94%d7%aa%d7%a7%d7%95%d7%95%d7%94-%d7%9e%d7%a9%d7%94-%d7%9c%d7%91/
END:VEVENT
BEGIN:VEVENT
DTSTART;VALUE=DATE:20200929
DTEND;VALUE=DATE:20201001
DTSTAMP:20260423T191722
CREATED:20200910T093718Z
LAST-MODIFIED:20200910T093718Z
UID:1466-1601344800-1601431199@tourguideconfidential.com
SUMMARY:הצפון הזורם - תרצה ניב
DESCRIPTION:מסלול מים בבניאס תחתון מחניון האקליפטוס לשדה נחמיה\, הפותחנים במשגב עם\, אמנית בובות ברמות נפתלי כרם ליאל ועוד
URL:https://tourguideconfidential.com/event/%d7%94%d7%a6%d7%a4%d7%95%d7%9f-%d7%94%d7%96%d7%95%d7%a8%d7%9d-%d7%aa%d7%a8%d7%a6%d7%94-%d7%a0%d7%99%d7%91/
END:VEVENT
BEGIN:VEVENT
DTSTART;VALUE=DATE:20200924
DTEND;VALUE=DATE:20200926
DTSTAMP:20260423T191722
CREATED:20200910T093404Z
LAST-MODIFIED:20200910T093404Z
UID:1464-1600912800-1600999199@tourguideconfidential.com
SUMMARY:פקיעין המתחדשת - יריב המאירי
DESCRIPTION:חידושים בפקיעין – עסל אל נור דבש\, גדעון עבאס אירוח ומפגש\, טחנת הקמח העתיקה\, מפגש עם ספא חיר\, פרויקט חוט ומחטף\, התנסות בבישול\, חוויה מוזיקלית עם כארים מוהנא וסיום מתוק עם שוקולטייר
URL:https://tourguideconfidential.com/event/%d7%a4%d7%a7%d7%99%d7%a2%d7%99%d7%9f-%d7%94%d7%9e%d7%aa%d7%97%d7%93%d7%a9%d7%aa-%d7%99%d7%a8%d7%99%d7%91-%d7%94%d7%9e%d7%90%d7%99%d7%a8%d7%99/
CATEGORIES:Tour
END:VEVENT
BEGIN:VEVENT
DTSTART;VALUE=DATE:20200922
DTEND;VALUE=DATE:20200924
DTSTAMP:20260423T191722
CREATED:20200908T080438Z
LAST-MODIFIED:20200910T091113Z
UID:1441-1600740000-1600826399@tourguideconfidential.com
SUMMARY:ארכיאולוגיה במרכז - בני יונין
DESCRIPTION:סיןר במוזיאון ארץ ישראל ובתל קסילה\, הרצאה על מקרא והא הלבנון וסיור בעזבת סרטא
URL:https://tourguideconfidential.com/event/%d7%90%d7%a8%d7%9b%d7%99%d7%90%d7%95%d7%9c%d7%95%d7%92%d7%99%d7%94-%d7%91%d7%9e%d7%a8%d7%9b%d7%96-%d7%91%d7%a0%d7%99-%d7%99%d7%95%d7%a0%d7%99%d7%9f/
END:VEVENT
BEGIN:VEVENT
DTSTART;VALUE=DATE:20200917
DTEND;VALUE=DATE:20200919
DTSTAMP:20260423T191722
CREATED:20200907T205402Z
LAST-MODIFIED:20200910T091032Z
UID:1439-1600308000-1600394399@tourguideconfidential.com
SUMMARY:לגלות את שפרעם - גאדה בולוס
DESCRIPTION:
URL:https://tourguideconfidential.com/event/%d7%9c%d7%92%d7%9c%d7%95%d7%aa-%d7%90%d7%aa-%d7%a9%d7%a4%d7%a8%d7%a2%d7%9d-%d7%92%d7%90%d7%93%d7%94-%d7%91%d7%95%d7%9c%d7%95%d7%a1/
END:VEVENT
BEGIN:VEVENT
DTSTART;VALUE=DATE:20200915
DTEND;VALUE=DATE:20200917
DTSTAMP:20260423T191722
CREATED:20200907T205217Z
LAST-MODIFIED:20200907T205217Z
UID:1437-1600135200-1600221599@tourguideconfidential.com
SUMMARY:הכרמל הנסתר - גילי שולץ
DESCRIPTION:הר יללת התנים\, חןןת משמר הכרמל\, מצפור הסיירים\, יער הפיות\, התנסות באטרקציות תיירות משלבת פעילות ימית בחיפה
URL:https://tourguideconfidential.com/event/%d7%94%d7%9b%d7%a8%d7%9e%d7%9c-%d7%94%d7%a0%d7%a1%d7%aa%d7%a8-%d7%92%d7%99%d7%9c%d7%99-%d7%a9%d7%95%d7%9c%d7%a5/
END:VEVENT
BEGIN:VEVENT
DTSTART;VALUE=DATE:20200913
DTEND;VALUE=DATE:20200915
DTSTAMP:20260423T191722
CREATED:20200907T204831Z
LAST-MODIFIED:20200907T204831Z
UID:1435-1599962400-1600048799@tourguideconfidential.com
SUMMARY:עוטף עזה - טניה קרבצוב
DESCRIPTION:
URL:https://tourguideconfidential.com/event/%d7%a2%d7%95%d7%98%d7%a3-%d7%a2%d7%96%d7%94-%d7%98%d7%a0%d7%99%d7%94-%d7%a7%d7%a8%d7%91%d7%a6%d7%95%d7%91/
END:VEVENT
BEGIN:VEVENT
DTSTART;VALUE=DATE:20200910
DTEND;VALUE=DATE:20200912
DTSTAMP:20260423T191722
CREATED:20200907T204530Z
LAST-MODIFIED:20200907T204555Z
UID:1433-1599703200-1599789599@tourguideconfidential.com
SUMMARY:מצבות מספרות את חיפה - רינה אופנבך
DESCRIPTION:עיר המתים חיפה – בתי עלמחן ופינות נסתרות בבירת התעשייה הישראלית
URL:https://tourguideconfidential.com/event/%d7%9e%d7%a6%d7%91%d7%95%d7%aa-%d7%9e%d7%a1%d7%a4%d7%a8%d7%95%d7%aa-%d7%90%d7%aa-%d7%97%d7%99%d7%a4%d7%94-%d7%a8%d7%99%d7%a0%d7%94-%d7%90%d7%95%d7%a4%d7%a0%d7%91%d7%9a/
END:VEVENT
BEGIN:VEVENT
DTSTART;TZID=Europe/Helsinki:20200909T090000
DTEND;TZID=Europe/Helsinki:20200909T183000
DTSTAMP:20260423T191722
CREATED:20200907T203234Z
LAST-MODIFIED:20200907T204217Z
UID:1423-1599642000-1599676200@tourguideconfidential.com
SUMMARY:המדבר מארח - ד"ר ירון עובדיה
DESCRIPTION:סיור בעקבות הבדואים במדבר יהודה
URL:https://tourguideconfidential.com/event/%d7%94%d7%9e%d7%93%d7%91%d7%a8-%d7%9e%d7%90%d7%a8%d7%97/
END:VEVENT
BEGIN:VEVENT
DTSTART;TZID=Europe/Helsinki:20200821T093000
DTEND;TZID=Europe/Helsinki:20200821T110000
DTSTAMP:20260423T191722
CREATED:20200906T104422Z
LAST-MODIFIED:20200906T111105Z
UID:1373-1598002200-1598007600@tourguideconfidential.com
SUMMARY:Free Tour - India and Haifa in the Colonial Era
DESCRIPTION:Come and enjoy a Free Tour (Donations Welcome) in English and learn about Haifa’s fascinating connections to India that date back to the colonial era. Dr Eyal Dujovny\, scholar and resident of Haifa\, spent over ten years living and researching in India and will lead a free tour that explores the capture of Haifa by Indian soldiers in World War I and the various surprising colonial-era connections between the land of Israel and India.
URL:https://tourguideconfidential.com/event/free-tour-india-and-haifa/
LOCATION:Rosen Garden\, Haifa\, Israel
CATEGORIES:Tour
ORGANIZER;CN="Dr.%20Eyal%20Dujovny":MAILTO:eialdujovny@gmail.com
END:VEVENT
BEGIN:VEVENT
DTSTART;TZID=Europe/Helsinki:20200816T173000
DTEND;TZID=Europe/Helsinki:20200816T190000
DTSTAMP:20260423T191722
CREATED:20200906T105046Z
LAST-MODIFIED:20200906T110331Z
UID:1377-1597599000-1597604400@tourguideconfidential.com
SUMMARY:Online Lecture - Hinduism and Judaism: Shared Roots\, Different Branches?
DESCRIPTION:At first glance\, it would seem undeniable that no two religions could be more opposed. Judaism\, the mother of all monotheistic religions\, is defined by its insistence on One (and only One) supreme deity\, while Hinduism is typified by a dizzying array of deities. And yet\, if one just scratches the surface\, there are many unexpected commonalities\, shared practices\, and historical convergences between these two ancient faith traditions. In this lecture\, we will examine the evidence and reflect upon these surprising similarities and what they might mean.
URL:https://tourguideconfidential.com/event/lecture-hinduism-and-judaism/
CATEGORIES:Lecture
ORGANIZER;CN="Dr.%20Eyal%20Dujovny":MAILTO:eialdujovny@gmail.com
END:VEVENT
BEGIN:VEVENT
DTSTART;TZID=Europe/Helsinki:20200719T173000
DTEND;TZID=Europe/Helsinki:20200719T190000
DTSTAMP:20260423T191722
CREATED:20200906T105445Z
LAST-MODIFIED:20200906T105629Z
UID:1379-1595179800-1595185200@tourguideconfidential.com
SUMMARY:Virtual Tour of Haifa
DESCRIPTION:Join Dr. Eyal for a virtual tour of his hometown of Haifa. Israel’s most dramatic and beautiful city. Located on the tip of the Carmel Mountain where it meets the sea\, we will learn about Haifa’s origins and how it went from being a small town to Israel’s third largest city in a matter of only 30 years. Tickets will be sold on Eventbrite on a donation basis with a $1 minimum donation to attend.
URL:https://tourguideconfidential.com/event/virtual-tour-of-haifa/
LOCATION:Online\, Online\, Israel
CATEGORIES:Tour
ORGANIZER;CN="Dr.%20Eyal%20Dujovny":MAILTO:eialdujovny@gmail.com
END:VEVENT
BEGIN:VEVENT
DTSTART;TZID=Europe/Helsinki:20200705T173000
DTEND;TZID=Europe/Helsinki:20200705T190000
DTSTAMP:20260423T191722
CREATED:20200906T105947Z
LAST-MODIFIED:20200906T110103Z
UID:1382-1593970200-1593975600@tourguideconfidential.com
SUMMARY:Online Lecture - The Clover Leaf Map: The Key to Understanding Israel and the Middle East
DESCRIPTION:The 1581 “Clover Leaf Map” Continues to Provide insights into the geopolitics of the Middle East over 400 years since it was first published. In this talk\, we will discuss the genesis for this map\, its geographic and ideological components\, and what it tells us about the importance of Jerusalem.
URL:https://tourguideconfidential.com/event/clover-leaf-map/
LOCATION:Online\, Online\, Israel
CATEGORIES:Lecture
ORGANIZER;CN="Dr.%20Eyal%20Dujovny":MAILTO:eialdujovny@gmail.com
END:VEVENT
END:VCALENDAR